BEGIN:VCALENDAR
VERSION:2.0
PRODID:-//Stokenham Parish Council - ECPv6.15.20//NONSGML v1.0//EN
CALSCALE:GREGORIAN
METHOD:PUBLISH
X-WR-CALNAME:Stokenham Parish Council
X-ORIGINAL-URL:https://stokenham-pc.gov.uk
X-WR-CALDESC:Events for Stokenham Parish Council
REFRESH-INTERVAL;VALUE=DURATION:PT1H
X-Robots-Tag:noindex
X-PUBLISHED-TTL:PT1H
BEGIN:VTIMEZONE
TZID:Europe/London
BEGIN:DAYLIGHT
TZOFFSETFROM:+0000
TZOFFSETTO:+0100
TZNAME:BST
DTSTART:20220327T010000
END:DAYLIGHT
BEGIN:STANDARD
TZOFFSETFROM:+0100
TZOFFSETTO:+0000
TZNAME:GMT
DTSTART:20221030T010000
END:STANDARD
BEGIN:DAYLIGHT
TZOFFSETFROM:+0000
TZOFFSETTO:+0100
TZNAME:BST
DTSTART:20230326T010000
END:DAYLIGHT
BEGIN:STANDARD
TZOFFSETFROM:+0100
TZOFFSETTO:+0000
TZNAME:GMT
DTSTART:20231029T010000
END:STANDARD
BEGIN:DAYLIGHT
TZOFFSETFROM:+0000
TZOFFSETTO:+0100
TZNAME:BST
DTSTART:20240331T010000
END:DAYLIGHT
BEGIN:STANDARD
TZOFFSETFROM:+0100
TZOFFSETTO:+0000
TZNAME:GMT
DTSTART:20241027T010000
END:STANDARD
BEGIN:DAYLIGHT
TZOFFSETFROM:+0000
TZOFFSETTO:+0100
TZNAME:BST
DTSTART:20250330T010000
END:DAYLIGHT
BEGIN:STANDARD
TZOFFSETFROM:+0100
TZOFFSETTO:+0000
TZNAME:GMT
DTSTART:20251026T010000
END:STANDARD
END:VTIMEZONE
BEGIN:VEVENT
DTSTART;TZID=Europe/London:20241017T193000
DTEND;TZID=Europe/London:20241017T193000
DTSTAMP:20260421T111625
CREATED:20240318T133139Z
LAST-MODIFIED:20241129T130806Z
UID:1865-1729193400-1729193400@stokenham-pc.gov.uk
SUMMARY:Full Council Meeting
DESCRIPTION:This meeting will be held at Stokenham Parish Hall. Members of the public are welcome to attend; please see the agenda for more details.
URL:https://stokenham-pc.gov.uk/event/full-council-meeting-8
LOCATION:Stokenham Parish Hall
CATEGORIES:Parish Council Meetings
END:VEVENT
BEGIN:VEVENT
DTSTART;TZID=Europe/London:20240919T193000
DTEND;TZID=Europe/London:20240919T193000
DTSTAMP:20260421T111625
CREATED:20240318T131936Z
LAST-MODIFIED:20241028T093523Z
UID:1861-1726774200-1726774200@stokenham-pc.gov.uk
SUMMARY:Full Council Meeting
DESCRIPTION:This meeting will be held at Stokenham Parish Hall. Members of the public are welcome to attend; please see the agenda for more details.
URL:https://stokenham-pc.gov.uk/event/full-council-meeting-7
LOCATION:Stokenham Parish Hall
CATEGORIES:Parish Council Meetings
END:VEVENT
BEGIN:VEVENT
DTSTART;TZID=Europe/London:20240718T193000
DTEND;TZID=Europe/London:20240718T193000
DTSTAMP:20260421T111625
CREATED:20240318T131814Z
LAST-MODIFIED:20240920T072228Z
UID:1859-1721331000-1721331000@stokenham-pc.gov.uk
SUMMARY:Full Council Meeting
DESCRIPTION:This meeting will be held at Stokenham Parish Hall. Members of the public are welcome to attend; please see the agenda for more details.
URL:https://stokenham-pc.gov.uk/event/full-council-meeting-6
LOCATION:Stokenham Parish Hall
CATEGORIES:Parish Council Meetings
END:VEVENT
BEGIN:VEVENT
DTSTART;TZID=Europe/London:20240620T193000
DTEND;TZID=Europe/London:20240620T193000
DTSTAMP:20260421T111625
CREATED:20240318T131637Z
LAST-MODIFIED:20250124T174516Z
UID:1855-1718911800-1718911800@stokenham-pc.gov.uk
SUMMARY:Full Council Meeting
DESCRIPTION:This meeting will be held at Stokenham Parish Hall. Members of the public are welcome to attend; please see the agenda for more details.
URL:https://stokenham-pc.gov.uk/event/full-council-meeting-4
LOCATION:Stokenham Parish Hall
CATEGORIES:Parish Council Meetings
END:VEVENT
BEGIN:VEVENT
DTSTART;TZID=Europe/London:20240516T193000
DTEND;TZID=Europe/London:20240516T193000
DTSTAMP:20260421T111625
CREATED:20240318T131610Z
LAST-MODIFIED:20240714T090228Z
UID:1853-1715887800-1715887800@stokenham-pc.gov.uk
SUMMARY:Annual Meeting of Full Council
DESCRIPTION:This meeting will be held at Stokenham Parish Hall. Members of the public are welcome to attend; please see the agenda for more details.
URL:https://stokenham-pc.gov.uk/event/annual-meeting-of-full-council
LOCATION:Stokenham Parish Hall
CATEGORIES:Parish Council Meetings
END:VEVENT
BEGIN:VEVENT
DTSTART;TZID=Europe/London:20240418T193000
DTEND;TZID=Europe/London:20240418T193000
DTSTAMP:20260421T111625
CREATED:20240318T131752Z
LAST-MODIFIED:20240714T090638Z
UID:1857-1713468600-1713468600@stokenham-pc.gov.uk
SUMMARY:Full Council Meeting
DESCRIPTION:Full Council Meeting
URL:https://stokenham-pc.gov.uk/event/full-council-meeting-5
LOCATION:Stokenham Parish Hall
CATEGORIES:Parish Council Meetings
END:VEVENT
BEGIN:VEVENT
DTSTART;TZID=Europe/London:20240416T183000
DTEND;TZID=Europe/London:20240416T183000
DTSTAMP:20260421T111625
CREATED:20240318T131439Z
LAST-MODIFIED:20240411T164716Z
UID:1849-1713292200-1713292200@stokenham-pc.gov.uk
SUMMARY:Annual Parish Meeting
DESCRIPTION:This meeting will be held at Stokenham Parish Hall. Members of the public are welcome to attend; please see the agenda for more details.
URL:https://stokenham-pc.gov.uk/event/annual-parish-meeting
LOCATION:Stokenham Parish Hall
CATEGORIES:Parish Council Meetings
END:VEVENT
BEGIN:VEVENT
DTSTART;TZID=Europe/London:20240321T193000
DTEND;TZID=Europe/London:20240321T193000
DTSTAMP:20260421T111625
CREATED:20240318T131306Z
LAST-MODIFIED:20240714T090539Z
UID:1847-1711049400-1711049400@stokenham-pc.gov.uk
SUMMARY:Full Council Meeting
DESCRIPTION:This meeting will be held at Stokenham Parish Hall. Members of the public are welcome to attend; please see the agenda for more details.
URL:https://stokenham-pc.gov.uk/event/full-council-meeting-3
LOCATION:Stokenham Parish Hall
CATEGORIES:Parish Council Meetings
END:VEVENT
BEGIN:VEVENT
DTSTART;TZID=Europe/London:20231019T193000
DTEND;TZID=Europe/London:20231019T193000
DTSTAMP:20260421T111625
CREATED:20230929T085253Z
LAST-MODIFIED:20231016T104541Z
UID:1414-1697743800-1697743800@stokenham-pc.gov.uk
SUMMARY:Full Council Meeting
DESCRIPTION:This meeting will be held at Stokenham Parish Hall. Members of the public are welcome to attend; please see the agenda for more details.
URL:https://stokenham-pc.gov.uk/event/full-council-meeting-2
LOCATION:Stokenham Parish Hall
CATEGORIES:Parish Council Meetings
END:VEVENT
BEGIN:VEVENT
DTSTART;TZID=Europe/London:20230921T193000
DTEND;TZID=Europe/London:20230921T193000
DTSTAMP:20260421T111625
CREATED:20230929T085216Z
LAST-MODIFIED:20231016T110542Z
UID:1412-1695324600-1695324600@stokenham-pc.gov.uk
SUMMARY:Full Council Meeting
DESCRIPTION:This meeting will be held at Stokenham Parish Hall. Members of the public are welcome to attend; please see the agenda for more details.
URL:https://stokenham-pc.gov.uk/event/full-council-meeting
LOCATION:Stokenham Parish Hall
CATEGORIES:Parish Council Meetings
END:VEVENT
END:VCALENDAR