BEGIN:VCALENDAR
VERSION:2.0
PRODID:-//Stokenham Parish Council - ECPv6.15.20//NONSGML v1.0//EN
CALSCALE:GREGORIAN
METHOD:PUBLISH
X-ORIGINAL-URL:https://stokenham-pc.gov.uk
X-WR-CALDESC:Events for Stokenham Parish Council
REFRESH-INTERVAL;VALUE=DURATION:PT1H
X-Robots-Tag:noindex
X-PUBLISHED-TTL:PT1H
BEGIN:VTIMEZONE
TZID:Europe/London
BEGIN:DAYLIGHT
TZOFFSETFROM:+0000
TZOFFSETTO:+0100
TZNAME:BST
DTSTART:20230326T010000
END:DAYLIGHT
BEGIN:STANDARD
TZOFFSETFROM:+0100
TZOFFSETTO:+0000
TZNAME:GMT
DTSTART:20231029T010000
END:STANDARD
BEGIN:DAYLIGHT
TZOFFSETFROM:+0000
TZOFFSETTO:+0100
TZNAME:BST
DTSTART:20240331T010000
END:DAYLIGHT
BEGIN:STANDARD
TZOFFSETFROM:+0100
TZOFFSETTO:+0000
TZNAME:GMT
DTSTART:20241027T010000
END:STANDARD
BEGIN:DAYLIGHT
TZOFFSETFROM:+0000
TZOFFSETTO:+0100
TZNAME:BST
DTSTART:20250330T010000
END:DAYLIGHT
BEGIN:STANDARD
TZOFFSETFROM:+0100
TZOFFSETTO:+0000
TZNAME:GMT
DTSTART:20251026T010000
END:STANDARD
BEGIN:DAYLIGHT
TZOFFSETFROM:+0000
TZOFFSETTO:+0100
TZNAME:BST
DTSTART:20260329T010000
END:DAYLIGHT
BEGIN:STANDARD
TZOFFSETFROM:+0100
TZOFFSETTO:+0000
TZNAME:GMT
DTSTART:20261025T010000
END:STANDARD
BEGIN:DAYLIGHT
TZOFFSETFROM:+0000
TZOFFSETTO:+0100
TZNAME:BST
DTSTART:20270328T010000
END:DAYLIGHT
BEGIN:STANDARD
TZOFFSETFROM:+0100
TZOFFSETTO:+0000
TZNAME:GMT
DTSTART:20271031T010000
END:STANDARD
END:VTIMEZONE
BEGIN:VEVENT
DTSTART;TZID=Europe/London:20260414T193000
DTEND;TZID=Europe/London:20260414T210000
DTSTAMP:20260422T202958
CREATED:20250910T073503Z
LAST-MODIFIED:20250910T073503Z
UID:3572-1776195000-1776200400@stokenham-pc.gov.uk
SUMMARY:Garden Society: The Mounds – A Garden inspired by Woodside
DESCRIPTION:A talk by Caroline Crocker – all welcome!
URL:https://stokenham-pc.gov.uk/event/garden-society-the-mounds-a-garden-inspired-by-woodside
LOCATION:Stokenham Parish Hall
CATEGORIES:Stokenham Garden Society Meetings
END:VEVENT
BEGIN:VEVENT
DTSTART;TZID=Europe/London:20260310T143000
DTEND;TZID=Europe/London:20260310T160000
DTSTAMP:20260422T202958
CREATED:20250910T073315Z
LAST-MODIFIED:20250910T073951Z
UID:3569-1773153000-1773158400@stokenham-pc.gov.uk
SUMMARY:Garden Society: AGM and Daffodil Show
DESCRIPTION:Followed by a shared afternoon tea – all welcome!
URL:https://stokenham-pc.gov.uk/event/garden-society-agm-and-daffodil-show
LOCATION:Stokenham Parish Hall
CATEGORIES:Stokenham Garden Society Meetings
END:VEVENT
BEGIN:VEVENT
DTSTART;TZID=Europe/London:20260223T123000
DTEND;TZID=Europe/London:20260223T140000
DTSTAMP:20260422T202958
CREATED:20250910T073052Z
LAST-MODIFIED:20250910T073052Z
UID:3566-1771849800-1771855200@stokenham-pc.gov.uk
SUMMARY:Garden Society: Society Lunch
DESCRIPTION:A chance to socialise with fellow members over lunch at The Globe Inn\, Frogmore
URL:https://stokenham-pc.gov.uk/event/garden-society-society-lunch
LOCATION:The Globe\, Frogmore
CATEGORIES:Stokenham Garden Society Meetings
END:VEVENT
BEGIN:VEVENT
DTSTART;TZID=Europe/London:20260210T143000
DTEND;TZID=Europe/London:20260210T160000
DTSTAMP:20260422T202958
CREATED:20250910T072842Z
LAST-MODIFIED:20250910T072842Z
UID:3563-1770733800-1770739200@stokenham-pc.gov.uk
SUMMARY:Garden Society: The Eden Project
DESCRIPTION:A talk by Jane Knight – all welcome!
URL:https://stokenham-pc.gov.uk/event/garden-society-the-eden-project
LOCATION:Stokenham Parish Hall
CATEGORIES:Stokenham Garden Society Meetings
END:VEVENT
BEGIN:VEVENT
DTSTART;TZID=Europe/London:20260113T143000
DTEND;TZID=Europe/London:20260113T160000
DTSTAMP:20260422T202958
CREATED:20250910T072710Z
LAST-MODIFIED:20250910T072710Z
UID:3560-1768314600-1768320000@stokenham-pc.gov.uk
SUMMARY:Garden Society: A Garden in Patagonia
DESCRIPTION:A talk by Deborah Blackburn – all welcome!
URL:https://stokenham-pc.gov.uk/event/garden-society-a-garden-in-patagonia
LOCATION:Stokenham Parish Hall
CATEGORIES:Stokenham Garden Society Meetings
END:VEVENT
BEGIN:VEVENT
DTSTART;TZID=Europe/London:20251209T143000
DTEND;TZID=Europe/London:20251209T160000
DTSTAMP:20260422T202958
CREATED:20250910T072535Z
LAST-MODIFIED:20250910T072535Z
UID:3557-1765290600-1765296000@stokenham-pc.gov.uk
SUMMARY:Garden Society: Willow Angels
DESCRIPTION:A demonstration by Sue Radford\, followed by shared afternoon tea – all welcome!
URL:https://stokenham-pc.gov.uk/event/garden-society-willow-angels
LOCATION:Stokenham Parish Hall
CATEGORIES:Stokenham Garden Society Meetings
END:VEVENT
BEGIN:VEVENT
DTSTART;TZID=Europe/London:20251111T143000
DTEND;TZID=Europe/London:20251111T160000
DTSTAMP:20260422T202958
CREATED:20250910T072056Z
LAST-MODIFIED:20250910T072319Z
UID:3554-1762871400-1762876800@stokenham-pc.gov.uk
SUMMARY:Garden Society: Woodland Gardens and Shade Plants
DESCRIPTION:A talk by Saul Walker – all welcome!
URL:https://stokenham-pc.gov.uk/event/garden-society-woodland-gardens-and-shade-plants
LOCATION:Stokenham Parish Hall
CATEGORIES:Stokenham Garden Society Meetings
END:VEVENT
BEGIN:VEVENT
DTSTART;TZID=Europe/London:20251014T193000
DTEND;TZID=Europe/London:20251014T210000
DTSTAMP:20260422T202958
CREATED:20250910T071907Z
LAST-MODIFIED:20250910T071907Z
UID:3548-1760470200-1760475600@stokenham-pc.gov.uk
SUMMARY:Garden Society: Medicinal Plants in your Garden
DESCRIPTION:A talk by Emma Freeman – all welcome!
URL:https://stokenham-pc.gov.uk/event/garden-society-medicinal-plants-in-your-garden
LOCATION:Stokenham Parish Hall
CATEGORIES:Stokenham Garden Society Meetings
END:VEVENT
BEGIN:VEVENT
DTSTART;TZID=Europe/London:20250909T193000
DTEND;TZID=Europe/London:20250909T210000
DTSTAMP:20260422T202958
CREATED:20250910T071652Z
LAST-MODIFIED:20250910T071652Z
UID:3549-1757446200-1757451600@stokenham-pc.gov.uk
SUMMARY:Garden Society: Apples and Community Orchards
DESCRIPTION:A talk by Peter Shaw – all welcome!
URL:https://stokenham-pc.gov.uk/event/garden-society-apples-and-community-orchards
LOCATION:Stokenham Parish Hall
CATEGORIES:Stokenham Garden Society Meetings
END:VEVENT
BEGIN:VEVENT
DTSTART;TZID=Europe/London:20250517T100000
DTEND;TZID=Europe/London:20250517T120000
DTSTAMP:20260422T202958
CREATED:20240908T161941Z
LAST-MODIFIED:20240908T161941Z
UID:2397-1747476000-1747483200@stokenham-pc.gov.uk
SUMMARY:Garden Society: Plant Sale
DESCRIPTION:Choose from a multitude of fabulous plants at keen prices from fellow enthusiasts – all welcome!
URL:https://stokenham-pc.gov.uk/event/garden-society-plant-sale
LOCATION:Chillington Village Hall
CATEGORIES:Stokenham Garden Society Meetings
END:VEVENT
BEGIN:VEVENT
DTSTART;TZID=Europe/London:20250408T193000
DTEND;TZID=Europe/London:20250408T210000
DTSTAMP:20260422T202958
CREATED:20240908T161634Z
LAST-MODIFIED:20240908T161634Z
UID:2394-1744140600-1744146000@stokenham-pc.gov.uk
SUMMARY:Garden Society: Spring into Summer
DESCRIPTION:A talk by Emma Hutchinson of Green Garden Spaces
URL:https://stokenham-pc.gov.uk/event/garden-society-spring-into-summer
LOCATION:Stokenham Parish Hall
CATEGORIES:Stokenham Garden Society Meetings
END:VEVENT
BEGIN:VEVENT
DTSTART;TZID=Europe/London:20250311T143000
DTEND;TZID=Europe/London:20250311T163000
DTSTAMP:20260422T202958
CREATED:20240908T161447Z
LAST-MODIFIED:20240908T161447Z
UID:2391-1741703400-1741710600@stokenham-pc.gov.uk
SUMMARY:Garden Society: Daffodil Show
DESCRIPTION:Annual General Meeting\, followed by bring and share afternoon tea – all welcome!
URL:https://stokenham-pc.gov.uk/event/garden-society-daffodil-show
LOCATION:Stokenham Parish Hall
CATEGORIES:Stokenham Garden Society Meetings
END:VEVENT
BEGIN:VEVENT
DTSTART;TZID=Europe/London:20250211T143000
DTEND;TZID=Europe/London:20250211T163000
DTSTAMP:20260422T202958
CREATED:20240908T161259Z
LAST-MODIFIED:20240908T161259Z
UID:2388-1739284200-1739291400@stokenham-pc.gov.uk
SUMMARY:Garden Society: St Luke's Open Gardens
DESCRIPTION:A talk by Wayne Marshall – all welcome!
URL:https://stokenham-pc.gov.uk/event/garden-society-st-lukes-open-gardens
LOCATION:Stokenham Parish Hall
CATEGORIES:Stokenham Garden Society Meetings
END:VEVENT
BEGIN:VEVENT
DTSTART;TZID=Europe/London:20250114T143000
DTEND;TZID=Europe/London:20250114T163000
DTSTAMP:20260422T202958
CREATED:20240908T161100Z
LAST-MODIFIED:20240908T161100Z
UID:2385-1736865000-1736872200@stokenham-pc.gov.uk
SUMMARY:Garden Society: Creative Ideas for the Garden
DESCRIPTION:A talk by Adrienne Blake – all welcome!
URL:https://stokenham-pc.gov.uk/event/garden-society-creative-ideas-for-the-garden
LOCATION:Stokenham Parish Hall
CATEGORIES:Stokenham Garden Society Meetings
END:VEVENT
BEGIN:VEVENT
DTSTART;TZID=Europe/London:20241210T143000
DTEND;TZID=Europe/London:20241210T163000
DTSTAMP:20260422T202958
CREATED:20240908T160853Z
LAST-MODIFIED:20240908T160853Z
UID:2382-1733841000-1733848200@stokenham-pc.gov.uk
SUMMARY:Garden Society Talk
DESCRIPTION:Speaker tbc\, followed by bring and share afternoon tea – all welcome!
URL:https://stokenham-pc.gov.uk/event/garden-society-talk
LOCATION:Stokenham Parish Hall
CATEGORIES:Stokenham Garden Society Meetings
END:VEVENT
BEGIN:VEVENT
DTSTART;TZID=Europe/London:20241112T143000
DTEND;TZID=Europe/London:20241112T163000
DTSTAMP:20260422T202958
CREATED:20240908T154458Z
LAST-MODIFIED:20240908T154458Z
UID:2378-1731421800-1731429000@stokenham-pc.gov.uk
SUMMARY:Garden Society: A History of Garden Plants in 12 Shrubs
DESCRIPTION:A talk by Dr Julian Sutton – all welcome!
URL:https://stokenham-pc.gov.uk/event/garden-society-a-history-of-garden-plants-in-12-shrubs
LOCATION:Stokenham Parish Hall
CATEGORIES:Stokenham Garden Society Meetings
END:VEVENT
BEGIN:VEVENT
DTSTART;TZID=Europe/London:20241008T193000
DTEND;TZID=Europe/London:20241008T210000
DTSTAMP:20260422T202958
CREATED:20240908T151432Z
LAST-MODIFIED:20240908T154221Z
UID:2367-1728415800-1728421200@stokenham-pc.gov.uk
SUMMARY:Garden Society: Camassia\, Chris\, Chelsea & Chaos
DESCRIPTION:A talk by Stella Exley\, of Hare Spring Cottage Plants – all welcome!
URL:https://stokenham-pc.gov.uk/event/camassia-chris-chelsea-chaos
LOCATION:Stokenham Parish Hall
CATEGORIES:Stokenham Garden Society Meetings
END:VEVENT
BEGIN:VEVENT
DTSTART;TZID=Europe/London:20240910T193000
DTEND;TZID=Europe/London:20240910T210000
DTSTAMP:20260422T202958
CREATED:20240908T142405Z
LAST-MODIFIED:20240908T163138Z
UID:2350-1725996600-1726002000@stokenham-pc.gov.uk
SUMMARY:Garden Society: Practical Propagation Evening
DESCRIPTION:Come and spend an evening learning to propagate\, and fill your garden with plants for free!
URL:https://stokenham-pc.gov.uk/event/practical-propagation-evening
LOCATION:Stokenham Parish Hall
CATEGORIES:Stokenham Garden Society Meetings
END:VEVENT
END:VCALENDAR